BEGIN:VCALENDAR
VERSION:2.0
PRODID:-//kremlin.ru/Kremlin Calendar//RU
METHOD:PUBLISH
URL:http://kremlin.ru/acts/assignments/items/64748/ical-7.ics
BEGIN:VEVENT
SUMMARY:Пр-2210\, п.2
DTSTART;VALUE=DATE:20210201
DTEND;VALUE=DATE:20210202
UID:assignment-6746_7@kremlin.ru
DESCRIPTION:2. Правительству Российской Федер
 ации рассмотреть совместно с Образовате
 льным Фондом «Талант и успех» вопрос о р
 еализации в сетевой форме образовательн
 ых программ в области физической культу
 ры и спорта\, направленных на профессион
 альную подготовку\, профессиональную пе
 реподготовку и повышение квалификации к
 адров в области физической культуры и сп
 орта\, с использованием возможностей Обр
 азовательного Фонда «Талант и успех»\, а
 втономной некоммерческой организации д
 ополнительного профессионального образ
 ования «Российский международный олимп
 ийский университет» и представить соотв
 етствующие предложения.Срок – 1 февраля 
 2021 г.Ответственные: Мишустин М.В.\, Шмелёв
 а Е.В.
END:VEVENT
END:VCALENDAR
