BEGIN:VCALENDAR
VERSION:2.0
PRODID:-//kremlin.ru/Kremlin Calendar//RU
METHOD:PUBLISH
URL:http://kremlin.ru/acts/assignments/items/64748/ical-6.ics
BEGIN:VEVENT
SUMMARY:Пр-2210\, п.1 ж)
DTSTART;VALUE=DATE:20211220
DTEND;VALUE=DATE:20211221
UID:assignment-6745_6@kremlin.ru
DESCRIPTION:ж) с учётом ранее данных поручений
  рассмотреть вопрос о передаче публичны
 м акционерным обществом «Газпром» Образ
 овательному Фонду «Талант и успех» цент
 ра единоборств в г.Сочи после завершения
  его строительства.Доклад – до 20 декабря
  2021 г.\, далее – один раз в полгода.Ответс
 твенные: Мишустин М.В.\, Миллер А.Б.
END:VEVENT
END:VCALENDAR
