BEGIN:VCALENDAR
VERSION:2.0
PRODID:-//kremlin.ru/Kremlin Calendar//RU
METHOD:PUBLISH
URL:http://kremlin.ru/acts/assignments/items/64748/ical-4.ics
BEGIN:VEVENT
SUMMARY:Пр-2210\, п.1 д)
DTSTART;VALUE=DATE:20210415
DTEND;VALUE=DATE:20210416
UID:assignment-6743_4@kremlin.ru
DESCRIPTION:д) рассмотреть вопрос об увеличен
 ии начиная с 2021 года объёмов финансирова
 ния за счёт бюджетных ассигнований феде
 рального бюджета мероприятий по организ
 ации дополнительного профессионального
  образования педагогических работников 
 региональных центров выявления\, поддер
 жки и развития способностей и талантов у
  детей и молодёжи.Доклад – до 15 апреля 2021
  г.\;
END:VEVENT
END:VCALENDAR
