BEGIN:VCALENDAR
VERSION:2.0
PRODID:-//kremlin.ru/Kremlin Calendar//RU
METHOD:PUBLISH
URL:http://kremlin.ru/acts/assignments/items/64748/ical-2.ics
BEGIN:VEVENT
SUMMARY:Пр-2210\, п.1 в)
DTSTART;VALUE=DATE:20211015
DTEND;VALUE=DATE:20211016
UID:assignment-6741_2@kremlin.ru
DESCRIPTION:в) с учётом ранее данных поручений
  предусмотреть финансовое обеспечение в
  2021–2023 годах деятельности автономной не
 коммерческой образовательной организац
 ии высшего образования «Научно-технолог
 ический университет «Сириус» за счёт бю
 джетных ассигнований федерального бюдж
 ета.Доклад – до 31 марта 2021 г. и 15 октября 2
 021 г.\;
END:VEVENT
END:VCALENDAR
