BEGIN:VCALENDAR
VERSION:2.0
PRODID:-//kremlin.ru/Kremlin Calendar//RU
METHOD:PUBLISH
URL:http://kremlin.ru/acts/assignments/items/64748/ical-12.ics
BEGIN:VEVENT
SUMMARY:Пр-2210\, п.6
DTSTART;VALUE=DATE:20210201
DTEND;VALUE=DATE:20210202
UID:assignment-6751_12@kremlin.ru
DESCRIPTION:6. Администрации Краснодарского к
 рая обеспечить завершение строительств
 а объектов общеобразовательного класте
 ра\, указанных в подпункте «а» пункта 1 на
 стоящего перечня поручений\, предусмотр
 еть включение в состав комиссии по их пр
 иёмке представителей Минпросвещения Ро
 ссии и Образовательного Фонда «Талант и 
 успех»\, а также обеспечить ввод таких об
 ъектов в эксплуатацию и их передачу в фе
 деральную собственность.Срок – 1 феврал
 я 2021 г.Ответственный: Кондратьев В.И.
END:VEVENT
END:VCALENDAR
