BEGIN:VCALENDAR
VERSION:2.0
PRODID:-//kremlin.ru/Kremlin Calendar//RU
METHOD:PUBLISH
URL:http://kremlin.ru/acts/assignments/items/64748/ical-11.ics
BEGIN:VEVENT
SUMMARY:Пр-2210\, п.5
DTSTART;VALUE=DATE:20210730
DTEND;VALUE=DATE:20210731
UID:assignment-6750_11@kremlin.ru
DESCRIPTION:5. Минкультуры России оказать соде
 йствие Образовательному Фонду «Талант и
  успех» в проведении всероссийского фес
 тиваля – конкурса молодых музыкантов и 
 молодых артистов балета «Созвездие» и ф
 естиваля искусств «Сочи.Сириус»\, в орга
 низации дополнительного профессиональн
 ого образования педагогических работни
 ков в области искусств\, предусмотрев не
 обходимое финансовое обеспечение этих м
 ероприятий.Доклад – до 30 июля 2021 г.Ответ
 ственный: Любимова О.Б.
END:VEVENT
END:VCALENDAR
