BEGIN:VCALENDAR
VERSION:2.0
PRODID:-//kremlin.ru/Kremlin Calendar//RU
METHOD:PUBLISH
URL:http://kremlin.ru/acts/assignments/items/64748/ical-0.ics
BEGIN:VEVENT
SUMMARY:Пр-2210\, п.1 а)
DTSTART;VALUE=DATE:20210115
DTEND;VALUE=DATE:20210116
UID:assignment-6739_0@kremlin.ru
DESCRIPTION:1. Правительству Российской Федер
 ации:а) обеспечить выделение в 2020 году Кр
 аснодарскому краю из федерального бюдже
 та дополнительных бюджетных ассигнован
 ий\, предусмотренных на реализацию мероп
 риятий по модернизации инфраструктуры о
 бщего образования в рамках государствен
 ной программы Российской Федерации «Раз
 витие образования»\, на софинансировани
 е расходов\, связанных с завершением стр
 оительства объектов общеобразовательно
 го кластера (общеобразовательная органи
 зация на 1100 мест\, дошкольная образовате
 льная организация на 360 мест и плаватель
 ный бассейн)\, расположенных на федераль
 ной территории «Сириус».Доклад – до 15 ян
 варя 2021 г.\;
END:VEVENT
END:VCALENDAR
