BEGIN:VCALENDAR
VERSION:2.0
PRODID:-//kremlin.ru/Kremlin Calendar//RU
METHOD:PUBLISH
URL:http://kremlin.ru/acts/assignments/items/64645/ical-3.ics
BEGIN:VEVENT
SUMMARY:Пр-2058\, п.3 а)-1
DTSTART;VALUE=DATE:20201215
DTEND;VALUE=DATE:20201216
UID:assignment-6698_3@kremlin.ru
DESCRIPTION:3. Рекомендовать Общероссийскому 
 общественному движению «НАРОДНЫЙ ФРОНТ 
 «ЗА РОССИЮ»:а) провести выборочный монит
 оринг ситуации\, связанной с оказанием м
 едицинской помощи больным коронавирусн
 ой инфекцией (COVID-19)\, обратив особое вним
 ание:на наличие в аптечных и медицинских
  организациях лекарственных препаратов\
 , необходимых для лечения больных корона
 вирусной инфекцией (COVID-19)\, и их доступно
 сть для населения\;
END:VEVENT
END:VCALENDAR
