BEGIN:VCALENDAR
VERSION:2.0
PRODID:-//kremlin.ru/Kremlin Calendar//RU
METHOD:PUBLISH
URL:http://kremlin.ru/acts/assignments/items/64496/ical-0.ics
BEGIN:VEVENT
SUMMARY:Пр-1939\, п.1 а)-1
DTSTART;VALUE=DATE:20201215
DTEND;VALUE=DATE:20201216
UID:assignment-6675_0@kremlin.ru
DESCRIPTION:1. Правительству Российской Федер
 ации:а) рассмотреть вопросы\, касающиеся 
 повышения уровня занятости населения Ро
 ссийской Федерации\, в том числе:частичн
 ого возмещения за счёт средств федераль
 ного бюджета расходов работодателей на 
 подготовку и дополнительное профессион
 альное образование работников\, приняты
 х на работу по направлению органов служб
 ы занятости из числа граждан\, зарегистр
 ированных в установленном порядке в кач
 естве безработных\;
END:VEVENT
END:VCALENDAR
