BEGIN:VCALENDAR
VERSION:2.0
PRODID:-//kremlin.ru/Kremlin Calendar//RU
METHOD:PUBLISH
URL:http://kremlin.ru/acts/assignments/items/64379/ical-51.ics
BEGIN:VEVENT
SUMMARY:Пр-1816\, п.2у
DTSTART;VALUE=DATE:20210701
DTEND;VALUE=DATE:20210702
UID:assignment-6665_51@kremlin.ru
DESCRIPTION:у) усилить государственный контро
 ль (надзор) за реализацией приоритетных 
 инвестиционных проектов в области освое
 ния лесов\;
END:VEVENT
END:VCALENDAR
