BEGIN:VCALENDAR
VERSION:2.0
PRODID:-//kremlin.ru/Kremlin Calendar//RU
METHOD:PUBLISH
URL:http://kremlin.ru/acts/assignments/items/64379/ical-50.ics
BEGIN:VEVENT
SUMMARY:Пр-1816\, п.2т
DTSTART;VALUE=DATE:20210701
DTEND;VALUE=DATE:20210702
UID:assignment-6664_50@kremlin.ru
DESCRIPTION:т) усилить федеральный государств
 енный лесной надзор за выполнением меро
 приятий по воспроизводству лесов\, включ
 ая лесовосстановление и уход за лесами\;
END:VEVENT
END:VCALENDAR
