BEGIN:VCALENDAR
VERSION:2.0
PRODID:-//kremlin.ru/Kremlin Calendar//RU
METHOD:PUBLISH
URL:http://kremlin.ru/acts/assignments/items/64379/ical-5.ics
BEGIN:VEVENT
SUMMARY:Пр-1816\, п.1а-5
DTSTART;VALUE=DATE:20201231
DTEND;VALUE=DATE:20210101
UID:assignment-6619_5@kremlin.ru
DESCRIPTION:исключения возможности оформлени
 я сопроводительных документов на древес
 ину и продукцию переработки древесины\, 
 вывоза древесины и продукции переработк
 и древесины из Российской Федерации в сл
 учае представления недостоверной инфор
 мации\, в том числе о месте и объеме загот
 овки древесины\, ее видовом (породном) и с
 ортиментном составе\;
END:VEVENT
END:VCALENDAR
