BEGIN:VCALENDAR
VERSION:2.0
PRODID:-//kremlin.ru/Kremlin Calendar//RU
METHOD:PUBLISH
URL:http://kremlin.ru/acts/assignments/items/64379/ical-47.ics
BEGIN:VEVENT
SUMMARY:Пр-1816\, п.2п
DTSTART;VALUE=DATE:20210901
DTEND;VALUE=DATE:20210902
UID:assignment-6661_47@kremlin.ru
DESCRIPTION:п) по результатам проведения эксп
 еримента\, указанного в подпункте «о» на
 стоящего пункта\, представить предложен
 ия о создании федерального органа испол
 нительной власти\, уполномоченного на ос
 уществление федерального государственн
 ого надзора в сфере лесного комплекса\, а
  также о наделении его полномочиями по в
 ыработке государственной политики\, нор
 мативно-правовому регулированию и оказа
 нию государственных услуг в такой сфере.
 Срок – 1 сентября 2021 г.\;
END:VEVENT
END:VCALENDAR
