BEGIN:VCALENDAR
VERSION:2.0
PRODID:-//kremlin.ru/Kremlin Calendar//RU
METHOD:PUBLISH
URL:http://kremlin.ru/acts/assignments/items/64379/ical-46.ics
BEGIN:VEVENT
SUMMARY:Пр-1816\, п.2о
DTSTART;VALUE=DATE:20211231
DTEND;VALUE=DATE:20220101
UID:assignment-6660_46@kremlin.ru
DESCRIPTION:о) провести в 2021 году в отдельных с
 убъектах Российской Федерации эксперим
 ент по осуществлению федерального госуд
 арственного лесного надзора уполномоче
 нным федеральным органом исполнительно
 й власти.Доклад – до 1 июня 2021 г. и до 31 де
 кабря 2021 г.\;
END:VEVENT
END:VCALENDAR
