BEGIN:VCALENDAR
VERSION:2.0
PRODID:-//kremlin.ru/Kremlin Calendar//RU
METHOD:PUBLISH
URL:http://kremlin.ru/acts/assignments/items/64379/ical-16.ics
BEGIN:VEVENT
SUMMARY:Пр-1816\, п.1е-5
DTSTART;VALUE=DATE:20210501
DTEND;VALUE=DATE:20210502
UID:assignment-6630_16@kremlin.ru
DESCRIPTION:разграничение федерального госуд
 арственного лесного надзора и лесной ох
 раны при условии сохранения возможности
  патрулирования лесов\;
END:VEVENT
END:VCALENDAR
