BEGIN:VCALENDAR
VERSION:2.0
PRODID:-//kremlin.ru/Kremlin Calendar//RU
METHOD:PUBLISH
URL:http://kremlin.ru/acts/assignments/items/64379/ical-14.ics
BEGIN:VEVENT
SUMMARY:Пр-1816\, п.1е-3
DTSTART;VALUE=DATE:20210501
DTEND;VALUE=DATE:20210502
UID:assignment-6628_14@kremlin.ru
DESCRIPTION:проведение административного обс
 ледования лесных участков и лесов с испо
 льзованием преимущественно методов дис
 танционного зондирования и других диста
 нционных методов\;
END:VEVENT
END:VCALENDAR
