BEGIN:VCALENDAR
VERSION:2.0
PRODID:-//kremlin.ru/Kremlin Calendar//RU
METHOD:PUBLISH
URL:http://kremlin.ru/acts/assignments/items/64356/ical-2.ics
BEGIN:VEVENT
SUMMARY:Пр-1817\, п.1в
DTSTART;VALUE=DATE:20201215
DTEND;VALUE=DATE:20201216
UID:assignment-6612_2@kremlin.ru
DESCRIPTION:в) определить порядок оказания ме
 дицинской помощи детям в соответствии с 
 подпунктом «б» настоящего пункта\, преду
 смотрев при этом\, что приоритет при прин
 ятии таких решений имеют врачи\, обществ
 енные деятели\, обладающие авторитетом в
  сфере охраны здоровья граждан.Доклад – 
 до 15 декабря 2020 г.Ответственный: Мишусти
 н М.В.
END:VEVENT
END:VCALENDAR
