BEGIN:VCALENDAR
VERSION:2.0
PRODID:-//kremlin.ru/Kremlin Calendar//RU
METHOD:PUBLISH
URL:http://kremlin.ru/acts/assignments/items/64309/ical-6.ics
BEGIN:VEVENT
SUMMARY:Пр-1760\, п.1 б)
DTSTART;VALUE=DATE:20210301
DTEND;VALUE=DATE:20210302
UID:assignment-6579_6@kremlin.ru
DESCRIPTION:б) проект федерального закона\, пр
 едусматривающего увеличение не менее че
 м в два раза размера целевых отчислений 
 от азартных игр\, уплачиваемых организат
 орами азартных игр в букмекерских конто
 рах\, совершенствование порядка уплаты т
 аких отчислений\, порядка их направления
  на финансирование мероприятий по разви
 тию спорта и порядка целевого использов
 ания таких отчислений\, а также предусма
 тривающего осуществление государственн
 ого контроля за уплатой таких отчислени
 й и их целевым использованием.Срок – 1 ма
 рта 2021 г.Ответственный: Мишустин М.В.
END:VEVENT
END:VCALENDAR
