BEGIN:VCALENDAR
VERSION:2.0
PRODID:-//kremlin.ru/Kremlin Calendar//RU
METHOD:PUBLISH
URL:http://kremlin.ru/acts/assignments/items/64309/ical-5.ics
BEGIN:VEVENT
SUMMARY:Пр-1760\, п.1 а)-6
DTSTART;VALUE=DATE:20201120
DTEND;VALUE=DATE:20201121
UID:assignment-6578_5@kremlin.ru
DESCRIPTION:установления возможности осущест
 вления при участии органов исполнительн
 ой власти субъектов Российской Федераци
 и в области физической культуры и спорта
  государственного контроля (надзора) в с
 фере образования в отношении организаци
 й\, реализующих программы спортивной под
 готовки.Срок – 20 ноября 2020 г.\;
END:VEVENT
END:VCALENDAR
