BEGIN:VCALENDAR
VERSION:2.0
PRODID:-//kremlin.ru/Kremlin Calendar//RU
METHOD:PUBLISH
URL:http://kremlin.ru/acts/assignments/items/64309/ical-4.ics
BEGIN:VEVENT
SUMMARY:Пр-1760\, п.1 а)-5
DTSTART;VALUE=DATE:20201120
DTEND;VALUE=DATE:20201121
UID:assignment-6577_4@kremlin.ru
DESCRIPTION:совершенствования понятийного ап
 парата\, используемого в законодательст
 ве Российской Федерации\, в том числе уто
 чнения понятий «детско-юношеский спорт»
  и «спортивная подготовка» в связи с нео
 бходимостью учёта всех несовершеннолет
 них граждан\, занимающихся спортом\;
END:VEVENT
END:VCALENDAR
