BEGIN:VCALENDAR
VERSION:2.0
PRODID:-//kremlin.ru/Kremlin Calendar//RU
METHOD:PUBLISH
URL:http://kremlin.ru/acts/assignments/items/64309/ical-34.ics
BEGIN:VEVENT
SUMMARY:Пр-1760\, п.2 и)
DTSTART;VALUE=DATE:20201225
DTEND;VALUE=DATE:20201226
UID:assignment-6607_34@kremlin.ru
DESCRIPTION:и) рассмотреть вопрос о сохранени
 и в рамках государственной программы Ро
 ссийской Федерации «Развитие физическо
 й культуры и спорта» финансового обеспе
 чения организаций\, осуществляющих спор
 тивную подготовку\, которая является уче
 бно-тренировочным процессом.Доклад – до
  25 декабря 2020 г.Ответственный: Мишустин М
 .В.\;
END:VEVENT
END:VCALENDAR
