BEGIN:VCALENDAR
VERSION:2.0
PRODID:-//kremlin.ru/Kremlin Calendar//RU
METHOD:PUBLISH
URL:http://kremlin.ru/acts/assignments/items/64309/ical-33.ics
BEGIN:VEVENT
SUMMARY:Пр-1760\, п.2 з)
DTSTART;VALUE=DATE:20210415
DTEND;VALUE=DATE:20210416
UID:assignment-6606_33@kremlin.ru
DESCRIPTION:з) разработать при участии высших 
 органов исполнительной власти субъекто
 в Российской Федерации\, Общественной па
 латы Российской Федерации\, заинтересов
 анных органов\, организаций и представит
 ь для рассмотрения на заседании Совета п
 ри Президенте Российской Федерации по р
 азвитию физической культуры и спорта пр
 оект концепции развития детско-юношеско
 го спорта в Российской Федерации.Срок – 
 15 апреля 2021 г.\;
END:VEVENT
END:VCALENDAR
