BEGIN:VCALENDAR
VERSION:2.0
PRODID:-//kremlin.ru/Kremlin Calendar//RU
METHOD:PUBLISH
URL:http://kremlin.ru/acts/assignments/items/64309/ical-32.ics
BEGIN:VEVENT
SUMMARY:Пр-1760\, п.2 ж)
DTSTART;VALUE=DATE:20201110
DTEND;VALUE=DATE:20201111
UID:assignment-6605_32@kremlin.ru
DESCRIPTION:ж) рассмотреть вопрос о проведени
 и в Российской Федерации в ближайшей пер
 спективе Года детско-юношеского спорта 
 для создания дополнительных условий\, сп
 особствующих достижению национальной ц
 ели развития Российской Федерации «Сохр
 анение населения\, здоровье и благополуч
 ие людей».Доклад – до 10 ноября 2020 г.\;
END:VEVENT
END:VCALENDAR
