BEGIN:VCALENDAR
VERSION:2.0
PRODID:-//kremlin.ru/Kremlin Calendar//RU
METHOD:PUBLISH
URL:http://kremlin.ru/acts/assignments/items/64309/ical-31.ics
BEGIN:VEVENT
SUMMARY:Пр-1760\, п.2 е)
DTSTART;VALUE=DATE:20210630
DTEND;VALUE=DATE:20210701
UID:assignment-6604_31@kremlin.ru
DESCRIPTION:е) принять меры\, направленные на с
 оздание в 2021–2024 годах клинической базы 
 федерального государственного бюджетно
 го учреждения «Федеральный научно-клини
 ческий центр спортивной медицины и реаб
 илитации Федерального медико-биологиче
 ского агентства» в целях оказания спорт
 сменам спортивных сборных команд Россий
 ской Федерации всех видов медицинской п
 омощи.Срок – 30 июня 2021 г.\;
END:VEVENT
END:VCALENDAR
