BEGIN:VCALENDAR
VERSION:2.0
PRODID:-//kremlin.ru/Kremlin Calendar//RU
METHOD:PUBLISH
URL:http://kremlin.ru/acts/assignments/items/64309/ical-29.ics
BEGIN:VEVENT
SUMMARY:Пр-1760\, п.2 г)
DTSTART;VALUE=DATE:20210215
DTEND;VALUE=DATE:20210216
UID:assignment-6602_29@kremlin.ru
DESCRIPTION:г) включить должности тренеров и и
 ных специалистов в области физической к
 ультуры и спорта в номенклатуру должнос
 тей педагогических работников организа
 ций\, осуществляющих образовательную де
 ятельность\, должностей руководителей о
 бразовательных организаций.Срок – 15 фев
 раля 2021 г.\;
END:VEVENT
END:VCALENDAR
