BEGIN:VCALENDAR
VERSION:2.0
PRODID:-//kremlin.ru/Kremlin Calendar//RU
METHOD:PUBLISH
URL:http://kremlin.ru/acts/assignments/items/64309/ical-2.ics
BEGIN:VEVENT
SUMMARY:Пр-1760\, п.1 а)-3
DTSTART;VALUE=DATE:20201120
DTEND;VALUE=DATE:20201121
UID:assignment-6575_2@kremlin.ru
DESCRIPTION:наделения тренеров и лиц\, проходя
 щих спортивную подготовку в организация
 х\, реализующих программы спортивной под
 готовки\, правами и обязанностями соотве
 тственно педагогических работников и об
 учающихся\;
END:VEVENT
END:VCALENDAR
