BEGIN:VCALENDAR
VERSION:2.0
PRODID:-//kremlin.ru/Kremlin Calendar//RU
METHOD:PUBLISH
URL:http://kremlin.ru/acts/assignments/items/64309/ical-19.ics
BEGIN:VEVENT
SUMMARY:Пр-1760\, п.2 а)-13
DTSTART;VALUE=DATE:20201225
DTEND;VALUE=DATE:20201226
UID:assignment-6592_19@kremlin.ru
DESCRIPTION:обеспечение непрерывного трениро
 вочного процесса спортивных сборных ком
 анд Российской Федерации и спортивных с
 борных команд субъектов Российской Феде
 рации\, в том числе в условиях санитарно-
 эпидемиологических ограничений\;
END:VEVENT
END:VCALENDAR
