BEGIN:VCALENDAR
VERSION:2.0
PRODID:-//kremlin.ru/Kremlin Calendar//RU
METHOD:PUBLISH
URL:http://kremlin.ru/acts/assignments/items/64309/ical-0.ics
BEGIN:VEVENT
SUMMARY:Пр-1760\, п.1 а)-1
DTSTART;VALUE=DATE:20201120
DTEND;VALUE=DATE:20201121
UID:assignment-6573_0@kremlin.ru
DESCRIPTION:1. Правительству Российской Федер
 ации разработать и внести в Государстве
 нную Думу Федерального Собрания Российс
 кой Федерации:а) с учётом ранее данных по
 ручений проект федерального закона\, обе
 спечивающего гармонизацию законодатель
 ства о физической культуре и спорте и за
 конодательства об образовании\, предусм
 отрев в том числе включение в этот проек
 т положений\, касающихся:отнесения орган
 изаций\, реализующих программы спортивн
 ой подготовки\, к организациям дополните
 льного образования спортивной направле
 нности\;
END:VEVENT
END:VCALENDAR
