BEGIN:VCALENDAR
VERSION:2.0
PRODID:-//kremlin.ru/Kremlin Calendar//RU
METHOD:PUBLISH
URL:http://kremlin.ru/acts/assignments/items/64273/ical-54.ics
BEGIN:VEVENT
SUMMARY:Пр-1726ГС\, п.6 у)
DTSTART;VALUE=DATE:20201201
DTEND;VALUE=DATE:20201202
UID:assignment-6543_54@kremlin.ru
DESCRIPTION:у) представить предложения по раз
 работке федерального проекта «Комплекс
 ная система мониторинга качества окружа
 ющей среды»\, предусматривающего создан
 ие распределенной сети сбора данных о сб
 росах и выбросах загрязняющих веществ\, 
 а также формирование системы обработки\,
  анализа и использования данных о состоя
 нии окружающей среды\;
END:VEVENT
END:VCALENDAR
