BEGIN:VCALENDAR
VERSION:2.0
PRODID:-//kremlin.ru/Kremlin Calendar//RU
METHOD:PUBLISH
URL:http://kremlin.ru/acts/assignments/items/64273/ical-53.ics
BEGIN:VEVENT
SUMMARY:Пр-1726ГС\, п.6 т)
DTSTART;VALUE=DATE:20201201
DTEND;VALUE=DATE:20201202
UID:assignment-6542_53@kremlin.ru
DESCRIPTION:т) обеспечить реализацию и сохран
 ение финансирования мероприятий федера
 льного проекта «Внедрение наилучших дос
 тупных технологий» путем их осуществлен
 ия в рамках соответствующих федеральных
  проектов национального проекта «Эколог
 ия»\, определив в этих федеральных проек
 тах показатели\, характеризующие снижен
 ие выбросов загрязняющих веществ в атмо
 сферный воздух\, сбросов загрязняющих ве
 ществ в водные объекты и снижение отходо
 образования\;
END:VEVENT
END:VCALENDAR
