BEGIN:VCALENDAR
VERSION:2.0
PRODID:-//kremlin.ru/Kremlin Calendar//RU
METHOD:PUBLISH
URL:http://kremlin.ru/acts/assignments/items/64273/ical-47.ics
BEGIN:VEVENT
SUMMARY:Пр-1726ГС\, п.6 н)-3
DTSTART;VALUE=DATE:20201201
DTEND;VALUE=DATE:20201202
UID:assignment-6536_47@kremlin.ru
DESCRIPTION:предусмотреть мероприятия по рек
 онструкции\, капитальному ремонту и ремо
 нту находящихся в аварийном и предавари
 йном состоянии искусственных сооружени
 й (мостов и путепроводов)\, рассмотрев во
 зможность финансирования этих мероприя
 тий за счет средств\, полученных в связи 
 с изменением норматива зачисления и пор
 ядка распределения налоговых доходов от
  акцизов на горюче-смазочные материалы\;
END:VEVENT
END:VCALENDAR
