BEGIN:VCALENDAR
VERSION:2.0
PRODID:-//kremlin.ru/Kremlin Calendar//RU
METHOD:PUBLISH
URL:http://kremlin.ru/acts/assignments/items/64273/ical-36.ics
BEGIN:VEVENT
SUMMARY:Пр-1726ГС\, п.6 д)
DTSTART;VALUE=DATE:20210701
DTEND;VALUE=DATE:20210702
UID:assignment-6525_36@kremlin.ru
DESCRIPTION:д) принять меры\, направленные на п
 оддержку низкомаржинальных проектов жи
 лищного строительства\, предусмотрев су
 бсидирование процентной ставки по креди
 там застройщиков\, реализующих такие про
 екты\;
END:VEVENT
END:VCALENDAR
