BEGIN:VCALENDAR
VERSION:2.0
PRODID:-//kremlin.ru/Kremlin Calendar//RU
METHOD:PUBLISH
URL:http://kremlin.ru/acts/assignments/items/64273/ical-35.ics
BEGIN:VEVENT
SUMMARY:Пр-1726ГС\, п.6 г)
DTSTART;VALUE=DATE:20210701
DTEND;VALUE=DATE:20210702
UID:assignment-6524_35@kremlin.ru
DESCRIPTION:г) представить предложения о внес
 ении в законодательство Российской Феде
 рации изменений\, направленных на реализ
 ацию программ по расселению жилья с высо
 кой степенью износа\;
END:VEVENT
END:VCALENDAR
