BEGIN:VCALENDAR
VERSION:2.0
PRODID:-//kremlin.ru/Kremlin Calendar//RU
METHOD:PUBLISH
URL:http://kremlin.ru/acts/assignments/items/64273/ical-34.ics
BEGIN:VEVENT
SUMMARY:Пр-1726ГС\, п.6 в)
DTSTART;VALUE=DATE:20210701
DTEND;VALUE=DATE:20210702
UID:assignment-6523_34@kremlin.ru
DESCRIPTION:в) с учетом ранее данных поручений
  разработать меры\, направленные на подд
 ержку индивидуального жилищного строит
 ельства\, в том числе на предоставление г
 ражданам ипотечных кредитов на строител
 ьство индивидуального жилого дома\;
END:VEVENT
END:VCALENDAR
