BEGIN:VCALENDAR
VERSION:2.0
PRODID:-//kremlin.ru/Kremlin Calendar//RU
METHOD:PUBLISH
URL:http://kremlin.ru/acts/assignments/items/64273/ical-31.ics
BEGIN:VEVENT
SUMMARY:Пр-1726ГС\, п.6 а)-1
DTSTART;VALUE=DATE:20211001
DTEND;VALUE=DATE:20211002
UID:assignment-6520_31@kremlin.ru
DESCRIPTION:6. Правительству Российской Федер
 ации для достижения национальной цели р
 азвития Российской Федерации «Комфортн
 ая и безопасная среда для жизни»:а) устан
 овить упрощенный порядок подключения (т
 ехнологического присоединения) к инжене
 рным сетям\, переноса (переустройства) ин
 женерных коммуникаций и обеспечить:возм
 ожность заключения договора о подключен
 ии (технологическом присоединении) объе
 ктов капитального строительства федера
 льного\, регионального или местного знач
 ения к сетям инженерно-технического обе
 спечения\, электрическим сетям\, а также 
 возможность получения разрешения на стр
 оительство таких объектов до образовани
 я земельного участка\;
END:VEVENT
END:VCALENDAR
