BEGIN:VCALENDAR
VERSION:2.0
PRODID:-//kremlin.ru/Kremlin Calendar//RU
METHOD:PUBLISH
URL:http://kremlin.ru/acts/assignments/items/64198/ical-6.ics
BEGIN:VEVENT
SUMMARY:Пр-1648\, п. 1ж
DTSTART;VALUE=DATE:20221201
DTEND;VALUE=DATE:20221202
UID:assignment-6477_6@kremlin.ru
DESCRIPTION:ж) завершить централизацию основн
 ых информационных ресурсов Пенсионного 
 фонда Российской Федерации\, Министерст
 ва внутренних дел Российской Федерации\,
  Федеральной службы государственной рег
 истрации\, кадастра и картографии и друг
 их федеральных органов исполнительной в
 ласти в части сведений\, используемых дл
 я подтверждения данных\, предоставляемы
 х заявителями в рамках оказания государ
 ственных и муниципальных услуг\, и перех
 од на обработку межведомственных запрос
 ов и предоставление указанных сведений 
 с использованием системы межведомствен
 ного электронного взаимодействия в режи
 ме реального времени.Срок – 1 декабря 2022 
 г.\;
END:VEVENT
END:VCALENDAR
