BEGIN:VCALENDAR
VERSION:2.0
PRODID:-//kremlin.ru/Kremlin Calendar//RU
METHOD:PUBLISH
URL:http://kremlin.ru/acts/assignments/items/64046/ical-0.ics
BEGIN:VEVENT
SUMMARY:Пр-1489\, п.1а
DTSTART;VALUE=DATE:20201101
DTEND;VALUE=DATE:20201102
UID:assignment-6444_0@kremlin.ru
DESCRIPTION:1. Правительству Российской Федер
 ации в целях формирования и реализации э
 кологически эффективной промышленной п
 олитики:а) рассмотреть на заседании вопр
 ос о выполнении Базельской конвенции о к
 онтроле за трансграничной перевозкой оп
 асных отходов и их удалением\, Роттердам
 ской конвенции о процедуре предваритель
 ного обоснованного согласия в отношении
  отдельных опасных химических веществ и 
 пестицидов в международной торговле\, Ст
 окгольмской конвенции о стойких органич
 еских загрязнителях\, Минаматской конве
 нции по ртути\, в том числе в части\, касаю
 щейся перемещения и утилизации опасных 
 отходов и внедрения малоотходных технол
 огий в целях снижения вреда\, причиняемо
 го здоровью человека и окружающей среде.
 Доклад ‒ до 1 ноября 2020 г.\;
END:VEVENT
END:VCALENDAR
