BEGIN:VCALENDAR
VERSION:2.0
PRODID:-//kremlin.ru/Kremlin Calendar//RU
METHOD:PUBLISH
URL:http://kremlin.ru/acts/assignments/items/63993/ical-4.ics
BEGIN:VEVENT
SUMMARY:Пр-1395\, п.2 б)
DTSTART;VALUE=DATE:20201101
DTEND;VALUE=DATE:20201102
UID:assignment-6431_4@kremlin.ru
DESCRIPTION:б) провести при участии Обществен
 ной палаты Российской Федерации анализ 
 состояния системы профессиональной под
 готовки специалистов в области физическ
 ой культуры и спорта и принять дополните
 льные меры по совершенствованию этой си
 стемы\;
END:VEVENT
END:VCALENDAR
