BEGIN:VCALENDAR
VERSION:2.0
PRODID:-//kremlin.ru/Kremlin Calendar//RU
METHOD:PUBLISH
URL:http://kremlin.ru/acts/assignments/items/63873/ical-6.ics
BEGIN:VEVENT
SUMMARY:Пр-1247\, п.2
DTSTART;VALUE=DATE:20201101
DTEND;VALUE=DATE:20201102
UID:assignment-6418_6@kremlin.ru
DESCRIPTION:2. Правительству Российской Федер
 ации при участии Агентства стратегическ
 их инициатив\, Союза «Молодые профессион
 алы (Ворлдскиллс Россия)» и органов испо
 лнительной власти субъектов Российской 
 Федерации проработать вопрос о включени
 и субъектов Российской Федерации в рабо
 ту по формированию и реализации проекто
 в Национальной технологической инициат
 ивы\, в том числе в системе образования\, 
 предусмотрев при этом расширение исполь
 зования перспективных наработок в прогр
 аммах переподготовки кадров.Доклад – до
  1 ноября 2020 г.Ответственные: Мишустин М.В
 .\, Чупшева С.В.\, Уразов Р.Н.\, высшие должн
 остные лица (руководители высших исполн
 ительных органов государственной власт
 и) субъектов Российской Федерации.
END:VEVENT
END:VCALENDAR
