BEGIN:VCALENDAR
VERSION:2.0
PRODID:-//kremlin.ru/Kremlin Calendar//RU
METHOD:PUBLISH
URL:http://kremlin.ru/acts/assignments/items/63748/ical-7.ics
BEGIN:VEVENT
SUMMARY:Пр-1150\, п.7
DTSTART;VALUE=DATE:20201001
DTEND;VALUE=DATE:20201002
UID:assignment-6354_7@kremlin.ru
DESCRIPTION:7. Рекомендовать Правительству Са
 нкт-Петербурга предусмотреть создание с
 портивного зала для занятий на батуте в 
 целях подготовки спортсменов\, занимающ
 ихся в государственном бюджетном учрежд
 ении спортивной школе олимпийского резе
 рва по прыжкам на лыжах с трамплина и лыж
 ному двоеборью Выборгского района Санкт
 -Петербурга.Доклад – до 1 октября 2020 г.От
 ветственный: Беглов А.Д.
END:VEVENT
END:VCALENDAR
