BEGIN:VCALENDAR
VERSION:2.0
PRODID:-//kremlin.ru/Kremlin Calendar//RU
METHOD:PUBLISH
URL:http://kremlin.ru/acts/assignments/items/63625/ical-5.ics
BEGIN:VEVENT
SUMMARY:Пр-1081\, п.1 е)
DTSTART;VALUE=DATE:20200715
DTEND;VALUE=DATE:20200716
UID:assignment-6322_5@kremlin.ru
DESCRIPTION:е) представить предложения по соз
 данию инструментов долгосрочного финан
 сирования развития транспортной\, сетев
 ой и иной инфраструктуры в субъектах Рос
 сийской Федерации.Срок – 15 июля 2020 г.\;
END:VEVENT
END:VCALENDAR
