BEGIN:VCALENDAR
VERSION:2.0
PRODID:-//kremlin.ru/Kremlin Calendar//RU
METHOD:PUBLISH
URL:http://kremlin.ru/acts/assignments/items/63565/ical-16.ics
BEGIN:VEVENT
SUMMARY:Пр-1022\, п.1 з)
DTSTART;VALUE=DATE:20200731
DTEND;VALUE=DATE:20200801
UID:assignment-6283_16@kremlin.ru
DESCRIPTION:з) при участии высших исполнитель
 ных органов государственной власти субъ
 ектов Российской Федерации обеспечить у
 величение доли отечественной спортивно
 й продукции\, используемой субъектами фи
 зической культуры и спорта в Российской 
 Федерации.Срок – 31 июля 2020 г.Ответственн
 ый: Мишустин М.В.\;
END:VEVENT
END:VCALENDAR
