BEGIN:VCALENDAR
VERSION:2.0
PRODID:-//kremlin.ru/Kremlin Calendar//RU
METHOD:PUBLISH
URL:http://kremlin.ru/acts/assignments/items/63502/ical-1.ics
BEGIN:VEVENT
SUMMARY:Пр-955\, п.1 б)
DTSTART;VALUE=DATE:20200901
DTEND;VALUE=DATE:20200902
UID:assignment-6255_1@kremlin.ru
DESCRIPTION:б) с учётом ранее данных поручений
  ускорить подготовку и внесение в нормат
 ивные правовые акты Российской Федераци
 и изменений\, направленных на предоставл
 ение обучающимся по образовательным про
 граммам высшего образования права получ
 ения на бесплатной основе дополнительно
 й квалификации\, в том числе путём освоен
 ия образовательных программ профессион
 ального обучения\;
END:VEVENT
END:VCALENDAR
