BEGIN:VCALENDAR
VERSION:2.0
PRODID:-//kremlin.ru/Kremlin Calendar//RU
METHOD:PUBLISH
URL:http://kremlin.ru/acts/assignments/items/63488/ical-7.ics
BEGIN:VEVENT
SUMMARY:Пр-932\, п.1 б-4
DTSTART;VALUE=DATE:20200801
DTEND;VALUE=DATE:20200802
UID:assignment-6233_7@kremlin.ru
DESCRIPTION:создания и внедрения сквозной сис
 темы прослеживаемости зерна\;
END:VEVENT
END:VCALENDAR
