BEGIN:VCALENDAR
VERSION:2.0
PRODID:-//kremlin.ru/Kremlin Calendar//RU
METHOD:PUBLISH
URL:http://kremlin.ru/acts/assignments/items/63488/ical-6.ics
BEGIN:VEVENT
SUMMARY:Пр-932\, п.1 б-3
DTSTART;VALUE=DATE:20200801
DTEND;VALUE=DATE:20200802
UID:assignment-6232_6@kremlin.ru
DESCRIPTION:государственной поддержки сельск
 охозяйственных товаропроизводителей пр
 и разработке\, внедрении и эксплуатации 
 российских технологических и цифровых и
 нноваций\, включая программные комплекс
 ы\, аппаратное обеспечение и системы сбо
 ра и хранения данных\;
END:VEVENT
END:VCALENDAR
