BEGIN:VCALENDAR
VERSION:2.0
PRODID:-//kremlin.ru/Kremlin Calendar//RU
METHOD:PUBLISH
URL:http://kremlin.ru/acts/assignments/items/63488/ical-5.ics
BEGIN:VEVENT
SUMMARY:Пр-932\, п.1 б-2
DTSTART;VALUE=DATE:20200801
DTEND;VALUE=DATE:20200802
UID:assignment-6231_5@kremlin.ru
DESCRIPTION:разработки механизма снижения во
 латильности цен на зерно для производит
 елей муки\;
END:VEVENT
END:VCALENDAR
