BEGIN:VCALENDAR
VERSION:2.0
PRODID:-//kremlin.ru/Kremlin Calendar//RU
METHOD:PUBLISH
URL:http://kremlin.ru/acts/assignments/items/63488/ical-14.ics
BEGIN:VEVENT
SUMMARY:Пр-932\, п.2-3
DTSTART;VALUE=DATE:20200701
DTEND;VALUE=DATE:20200702
UID:assignment-6240_14@kremlin.ru
DESCRIPTION:установления возможности осущест
 вления на принадлежащих крестьянским (ф
 ермерским) хозяйствам и сельскохозяйств
 енным потребительским кооперативам зем
 ельных участках в составе земель сельск
 охозяйственного назначения сбыта произ
 веденной ими продукции.Доклад – до 1 июл
 я 2020 г.Ответственные: Мишустин М.В.\, высш
 ие должностные лица (руководители высши
 х исполнительных органов государственн
 ой власти) субъектов Российской Федерац
 ии.
END:VEVENT
END:VCALENDAR
