BEGIN:VCALENDAR
VERSION:2.0
PRODID:-//kremlin.ru/Kremlin Calendar//RU
METHOD:PUBLISH
URL:http://kremlin.ru/acts/assignments/items/63488/ical-13.ics
BEGIN:VEVENT
SUMMARY:Пр-932\, п.2-2
DTSTART;VALUE=DATE:20200701
DTEND;VALUE=DATE:20200702
UID:assignment-6239_13@kremlin.ru
DESCRIPTION:организации в субъектах Российск
 ой Федерации региональных и межрегионал
 ьных фермерских ярмарок\, нестационарно
 й и мобильной (развозной) торговли с возм
 ожностью предоставления крестьянским (ф
 ермерским) хозяйствам и сельскохозяйств
 енным потребительским кооперативам бес
 платных торговых мест или субсидировани
 я затрат на их предоставление\;
END:VEVENT
END:VCALENDAR
