BEGIN:VCALENDAR
VERSION:2.0
PRODID:-//kremlin.ru/Kremlin Calendar//RU
METHOD:PUBLISH
URL:http://kremlin.ru/acts/assignments/items/63478/ical-12.ics
BEGIN:VEVENT
SUMMARY:Пр-930\, п.3
DTSTART;VALUE=DATE:20200801
DTEND;VALUE=DATE:20200802
UID:assignment-6253_12@kremlin.ru
DESCRIPTION:3. Минтруду России совместно с Мин
 обрнауки России\, Минфином России\, высши
 ми должностными лицами (руководителями 
 высших исполнительных органов государс
 твенной власти) субъектов Российской Фе
 дерации и при участии объединений работ
 одателей обеспечить разработку и реализ
 ацию комплекса мер по содействию трудоу
 стройству граждан\, завершивших обучени
 е по основным образовательным программа
 м высшего образования в 2020 году\, в том чи
 сле в образовательные организации высше
 го образования и научные организации.До
 клад – до 1 августа 2020 г.\, далее – ежеква
 ртально.Ответственные: Котяков А.О.\, Фал
 ьков В.Н.\, Силуанов А.Г.\, высшие должност
 ные лица (руководители высших исполните
 льных органов государственной власти) с
 убъектов Российской Федерации.
END:VEVENT
END:VCALENDAR
