BEGIN:VCALENDAR
VERSION:2.0
PRODID:-//kremlin.ru/Kremlin Calendar//RU
METHOD:PUBLISH
URL:http://kremlin.ru/acts/assignments/items/63454/ical-9.ics
BEGIN:VEVENT
SUMMARY:Пр-907\, п.1ж
DTSTART;VALUE=DATE:20201001
DTEND;VALUE=DATE:20201002
UID:assignment-6209_9@kremlin.ru
DESCRIPTION:ж) внесение изменений в законодат
 ельство Российской Федерации\, направле
 нных на упрощение процедур проектирован
 ия\, строительства\, реконструкции и капи
 тального ремонта газопроводов и газорас
 пределительных сетей.Доклад – до 1 октяб
 ря 2020 г.\, далее – один раз в квартал.Отве
 тственные: Мишустин М.В.\, высшие должнос
 тные лица (руководители высших исполнит
 ельных органов государственной власти) 
 субъектов Российской Федерации\, Миллер 
 А.Б.\;
END:VEVENT
END:VCALENDAR
